BEGIN:VCALENDAR
VERSION:2.0
PRODID:-//Jimmy&#039;s Jazz &amp; Blues Club - ECPv6.15.20//NONSGML v1.0//EN
CALSCALE:GREGORIAN
METHOD:PUBLISH
X-WR-CALNAME:Jimmy&#039;s Jazz &amp; Blues Club
X-ORIGINAL-URL:https://jimmysoncongress.com
X-WR-CALDESC:Events for Jimmy&#039;s Jazz &amp; Blues Club
REFRESH-INTERVAL;VALUE=DURATION:PT1H
X-Robots-Tag:noindex
X-PUBLISHED-TTL:PT1H
BEGIN:VTIMEZONE
TZID:America/New_York
BEGIN:DAYLIGHT
TZOFFSETFROM:-0500
TZOFFSETTO:-0400
TZNAME:EDT
DTSTART:20250309T070000
END:DAYLIGHT
BEGIN:STANDARD
TZOFFSETFROM:-0400
TZOFFSETTO:-0500
TZNAME:EST
DTSTART:20251102T060000
END:STANDARD
BEGIN:DAYLIGHT
TZOFFSETFROM:-0500
TZOFFSETTO:-0400
TZNAME:EDT
DTSTART:20260308T070000
END:DAYLIGHT
BEGIN:STANDARD
TZOFFSETFROM:-0400
TZOFFSETTO:-0500
TZNAME:EST
DTSTART:20261101T060000
END:STANDARD
BEGIN:DAYLIGHT
TZOFFSETFROM:-0500
TZOFFSETTO:-0400
TZNAME:EDT
DTSTART:20270314T070000
END:DAYLIGHT
BEGIN:STANDARD
TZOFFSETFROM:-0400
TZOFFSETTO:-0500
TZNAME:EST
DTSTART:20271107T060000
END:STANDARD
END:VTIMEZONE
BEGIN:VEVENT
DTSTART;TZID=America/New_York:20260809T193000
DTEND;TZID=America/New_York:20260809T193000
DTSTAMP:20260421T073955
CREATED:20260420T193505Z
LAST-MODIFIED:20260421T113505Z
UID:122719-1786303800-1786303800@jimmysoncongress.com
SUMMARY:Larry McCray
DESCRIPTION:Larry McCray\, inducted into the Michigan Rock and Roll Legends Hall of Fame (2024)\, is a leading modern blues artist known for his soul-soaked voice and commanding guitar work. His latest release\, Heartbreak City\, produced by Joe Bonamassa and Josh Smith\, marks a direct and personal new chapter. The album highlights McCray’s expressive vocals and guitar\, with material ranging from soul-infused ballads to driving blues. Tracks like ‘Bye Bye Blues’ reflect his early influences\, while ?Bright Side? showcases his balance of emotion and subtle humor. The release follows Blues Without You (2022)\, which reached No. 2 on the Billboard Blues chart. Born in Smackover\, Arkansas\, and raised in Michigan\, McCray built his career through decades of touring and recording\, working alongside artists such as B.B. King and Buddy Guy.
URL:https://jimmysoncongress.com/event/larry-mccray/
ATTACH;FMTTYPE=image/jpeg:https://jimmysoncongress.com/wp-content/uploads/2026/04/a83d03fc-ec14-45d9-b253-66c4e1b7b3aa_1650461_TABLET_LANDSCAPE_LARGE_16_9.jpg
END:VEVENT
END:VCALENDAR