BEGIN:VCALENDAR
VERSION:2.0
PRODID:-//Jimmy&#039;s Jazz &amp; Blues Club - ECPv6.15.20//NONSGML v1.0//EN
CALSCALE:GREGORIAN
METHOD:PUBLISH
X-WR-CALNAME:Jimmy&#039;s Jazz &amp; Blues Club
X-ORIGINAL-URL:https://jimmysoncongress.com
X-WR-CALDESC:Events for Jimmy&#039;s Jazz &amp; Blues Club
REFRESH-INTERVAL;VALUE=DURATION:PT1H
X-Robots-Tag:noindex
X-PUBLISHED-TTL:PT1H
BEGIN:VTIMEZONE
TZID:America/New_York
BEGIN:DAYLIGHT
TZOFFSETFROM:-0500
TZOFFSETTO:-0400
TZNAME:EDT
DTSTART:20250309T070000
END:DAYLIGHT
BEGIN:STANDARD
TZOFFSETFROM:-0400
TZOFFSETTO:-0500
TZNAME:EST
DTSTART:20251102T060000
END:STANDARD
BEGIN:DAYLIGHT
TZOFFSETFROM:-0500
TZOFFSETTO:-0400
TZNAME:EDT
DTSTART:20260308T070000
END:DAYLIGHT
BEGIN:STANDARD
TZOFFSETFROM:-0400
TZOFFSETTO:-0500
TZNAME:EST
DTSTART:20261101T060000
END:STANDARD
BEGIN:DAYLIGHT
TZOFFSETFROM:-0500
TZOFFSETTO:-0400
TZNAME:EDT
DTSTART:20270314T070000
END:DAYLIGHT
BEGIN:STANDARD
TZOFFSETFROM:-0400
TZOFFSETTO:-0500
TZNAME:EST
DTSTART:20271107T060000
END:STANDARD
END:VTIMEZONE
BEGIN:VEVENT
DTSTART;TZID=America/New_York:20260608T190000
DTEND;TZID=America/New_York:20260608T190000
DTSTAMP:20260419T115943
CREATED:20260330T013012Z
LAST-MODIFIED:20260419T155507Z
UID:122502-1780945200-1780945200@jimmysoncongress.com
SUMMARY:Local Artist Series: Cryin' Out Loud
DESCRIPTION:Cryin’ Out Loud is a dynamic blues band that is currently touring and recording albums. And with that we are happy to announce that Cryin’ Out Loud’s ‘Play Loud\, Smoke Often’ has been released! Produced by Grammy award winner Paul Nelson and recorded in Bangor\, Maine\, their debut release is highly anticipated and inspired by the likes of The Band\, The Allman Brothers Band\, Little Feat\, and of course all the blues greats. There is something for everyone! This album is full of brand new originals and features guest appearances from Erik Lawrence\, Paul Nelson of The Paul Nelson Band\, and Ana Popovic’s renowned keyboardist\, Brooks Milgate. Cryin’ Out Loud has built a loyal following of fans in the North East and is currently booking multiple tours. Their blend of traditional blues with their innovative and modern original material has made them the band to see in Maine.
URL:https://jimmysoncongress.com/event/local-artist-series-cryin-out-loud/
ATTACH;FMTTYPE=image/jpeg:https://jimmysoncongress.com/wp-content/uploads/2026/03/0aded3d3-11c3-4498-aa73-6d176d43c863_TABLET_LANDSCAPE_LARGE_16_9.jpg
END:VEVENT
END:VCALENDAR