BEGIN:VCALENDAR
VERSION:2.0
PRODID:-//Jimmy&#039;s Jazz &amp; Blues Club - ECPv6.15.20//NONSGML v1.0//EN
CALSCALE:GREGORIAN
METHOD:PUBLISH
X-WR-CALNAME:Jimmy&#039;s Jazz &amp; Blues Club
X-ORIGINAL-URL:https://jimmysoncongress.com
X-WR-CALDESC:Events for Jimmy&#039;s Jazz &amp; Blues Club
REFRESH-INTERVAL;VALUE=DURATION:PT1H
X-Robots-Tag:noindex
X-PUBLISHED-TTL:PT1H
BEGIN:VTIMEZONE
TZID:America/New_York
BEGIN:DAYLIGHT
TZOFFSETFROM:-0500
TZOFFSETTO:-0400
TZNAME:EDT
DTSTART:20250309T070000
END:DAYLIGHT
BEGIN:STANDARD
TZOFFSETFROM:-0400
TZOFFSETTO:-0500
TZNAME:EST
DTSTART:20251102T060000
END:STANDARD
BEGIN:DAYLIGHT
TZOFFSETFROM:-0500
TZOFFSETTO:-0400
TZNAME:EDT
DTSTART:20260308T070000
END:DAYLIGHT
BEGIN:STANDARD
TZOFFSETFROM:-0400
TZOFFSETTO:-0500
TZNAME:EST
DTSTART:20261101T060000
END:STANDARD
BEGIN:DAYLIGHT
TZOFFSETFROM:-0500
TZOFFSETTO:-0400
TZNAME:EDT
DTSTART:20270314T070000
END:DAYLIGHT
BEGIN:STANDARD
TZOFFSETFROM:-0400
TZOFFSETTO:-0500
TZNAME:EST
DTSTART:20271107T060000
END:STANDARD
END:VTIMEZONE
BEGIN:VEVENT
DTSTART;TZID=America/New_York:20260812T193000
DTEND;TZID=America/New_York:20260812T193000
DTSTAMP:20260421T044613
CREATED:20260406T211017Z
LAST-MODIFIED:20260421T084507Z
UID:122576-1786563000-1786563000@jimmysoncongress.com
SUMMARY:Matteo Mancuso
DESCRIPTION:Hailed by Steve Vai as ‘the evolution of fusion guitar\,’ Matteo Mancuso is one of the most electrifying young guitarists on the global stage. A prodigy from Palermo\, Italy\, Mancuso began performing professionally at age 11 and quickly gained international recognition for his virtuosic technique and genre-defying style. A graduate of the Palermo Conservatory with highest honors\, he earned a scholarship to Berklee College of Music after a standout performance at the Umbria Jazz Festival. His debut album The Journey showcases a fearless blend of jazz\, fusion\, rock\, and classical influences. Mancuso has performed at major international festivals and shared stages with legends including Al Di Meola. Eric Johnson calls him “a beautiful player\, so versatile\,” while peers worldwide praise his groundbreaking approach. With a rapidly growing global following\, Mancuso represents the next generation of guitar innovation.
URL:https://jimmysoncongress.com/event/matteo-mancuso/
ATTACH;FMTTYPE=image/jpeg:https://jimmysoncongress.com/wp-content/uploads/2026/04/31d72f32-05a2-4ec0-9f75-9910e33a6ca9_TABLET_LANDSCAPE_LARGE_16_9.jpg
END:VEVENT
END:VCALENDAR