BEGIN:VCALENDAR
VERSION:2.0
PRODID:-//Jimmy&#039;s Jazz &amp; Blues Club - ECPv6.15.20//NONSGML v1.0//EN
CALSCALE:GREGORIAN
METHOD:PUBLISH
X-WR-CALNAME:Jimmy&#039;s Jazz &amp; Blues Club
X-ORIGINAL-URL:https://jimmysoncongress.com
X-WR-CALDESC:Events for Jimmy&#039;s Jazz &amp; Blues Club
REFRESH-INTERVAL;VALUE=DURATION:PT1H
X-Robots-Tag:noindex
X-PUBLISHED-TTL:PT1H
BEGIN:VTIMEZONE
TZID:America/New_York
BEGIN:DAYLIGHT
TZOFFSETFROM:-0500
TZOFFSETTO:-0400
TZNAME:EDT
DTSTART:20250309T070000
END:DAYLIGHT
BEGIN:STANDARD
TZOFFSETFROM:-0400
TZOFFSETTO:-0500
TZNAME:EST
DTSTART:20251102T060000
END:STANDARD
BEGIN:DAYLIGHT
TZOFFSETFROM:-0500
TZOFFSETTO:-0400
TZNAME:EDT
DTSTART:20260308T070000
END:DAYLIGHT
BEGIN:STANDARD
TZOFFSETFROM:-0400
TZOFFSETTO:-0500
TZNAME:EST
DTSTART:20261101T060000
END:STANDARD
BEGIN:DAYLIGHT
TZOFFSETFROM:-0500
TZOFFSETTO:-0400
TZNAME:EDT
DTSTART:20270314T070000
END:DAYLIGHT
BEGIN:STANDARD
TZOFFSETFROM:-0400
TZOFFSETTO:-0500
TZNAME:EST
DTSTART:20271107T060000
END:STANDARD
END:VTIMEZONE
BEGIN:VEVENT
DTSTART;TZID=America/New_York:20260617T193000
DTEND;TZID=America/New_York:20260617T193000
DTSTAMP:20260421T072938
CREATED:20260420T193509Z
LAST-MODIFIED:20260421T112506Z
UID:122721-1781724600-1781724600@jimmysoncongress.com
SUMMARY:Popa Chubby
DESCRIPTION:Popa Chubby\, born Ted Horowitz\, has been hard rocking the blues in his fierce\, soulful way for more than 30 years. Since 1994\, he has been a force on guitar\, with a style he describes as ‘the Stooges meets Buddy Guy\, Motörhead meets Muddy Waters\, and Jimi Hendrix meets Robert Johnson.’ A native New Yorker\, Horowitz began in the NYC punk scene\, performing at CBGB alongside acts such as Ramones and The Cramps\, shaping a performance style rooted in rock as theater. The blues remains the foundation of his playing. Drawing on early influences like Hendrix\, Cream\, and Led Zeppelin\, he brings a direct\, unfiltered approach that continues to evolve\, maintaining a dedicated international audience and a lasting presence in contemporary blues.
URL:https://jimmysoncongress.com/event/popa-chubby/
ATTACH;FMTTYPE=image/jpeg:https://jimmysoncongress.com/wp-content/uploads/2026/04/f4ebacbd-d093-4acd-bf62-e5e94fc9e0d3_1765251_TABLET_LANDSCAPE_LARGE_16_9.jpg
END:VEVENT
END:VCALENDAR