BEGIN:VCALENDAR
VERSION:2.0
PRODID:-//Jimmy&#039;s Jazz &amp; Blues Club - ECPv6.15.20//NONSGML v1.0//EN
CALSCALE:GREGORIAN
METHOD:PUBLISH
X-ORIGINAL-URL:https://jimmysoncongress.com
X-WR-CALDESC:Events for Jimmy&#039;s Jazz &amp; Blues Club
REFRESH-INTERVAL;VALUE=DURATION:PT1H
X-Robots-Tag:noindex
X-PUBLISHED-TTL:PT1H
BEGIN:VTIMEZONE
TZID:America/New_York
BEGIN:DAYLIGHT
TZOFFSETFROM:-0500
TZOFFSETTO:-0400
TZNAME:EDT
DTSTART:20250309T070000
END:DAYLIGHT
BEGIN:STANDARD
TZOFFSETFROM:-0400
TZOFFSETTO:-0500
TZNAME:EST
DTSTART:20251102T060000
END:STANDARD
BEGIN:DAYLIGHT
TZOFFSETFROM:-0500
TZOFFSETTO:-0400
TZNAME:EDT
DTSTART:20260308T070000
END:DAYLIGHT
BEGIN:STANDARD
TZOFFSETFROM:-0400
TZOFFSETTO:-0500
TZNAME:EST
DTSTART:20261101T060000
END:STANDARD
BEGIN:DAYLIGHT
TZOFFSETFROM:-0500
TZOFFSETTO:-0400
TZNAME:EDT
DTSTART:20270314T070000
END:DAYLIGHT
BEGIN:STANDARD
TZOFFSETFROM:-0400
TZOFFSETTO:-0500
TZNAME:EST
DTSTART:20271107T060000
END:STANDARD
END:VTIMEZONE
BEGIN:VEVENT
DTSTART;TZID=America/New_York:20260723T193000
DTEND;TZID=America/New_York:20260723T193000
DTSTAMP:20260419T083546
CREATED:20260414T163508Z
LAST-MODIFIED:20260419T123509Z
UID:10000944-1784835000-1784835000@jimmysoncongress.com
SUMMARY:The Brothers Comatose
DESCRIPTION:The Brothers Comatose are a roots-infused bluegrass band known for their infectious blend of Americana\, folk\, and traditional bluegrass. Based in San Francisco\, California\, the band has developed a reputation for their high-energy performances\, heartfelt songwriting\, and impressive musicianship. Founded in 2008 by brothers Ben and Alex Morrison\, the group features a lineup of talented musicians whose core of their sound is defined by tight harmonies\, virtuosic string instrumentation\, and a foot-stomping\, back-porch spirit. The Brothers Comatose’s sound draws from a variety of influences\, including old-time bluegrass\, country\, and rock\, but they make it uniquely their own with a modern twist and a strong emphasis on storytelling. Their songs often delve into themes of love\, loss\, adventure\, and the human experience\, all while maintaining an upbeat\, rollicking energy that keeps fans coming back for more.
URL:https://jimmysoncongress.com/event/the-brothers-comatose/
ATTACH;FMTTYPE=image/jpeg:https://jimmysoncongress.com/wp-content/uploads/2026/04/3c504a06-c1a9-458d-8d53-2a530468d672_TABLET_LANDSCAPE_LARGE_16_9.jpg
END:VEVENT
BEGIN:VEVENT
DTSTART;TZID=America/New_York:20260811T190000
DTEND;TZID=America/New_York:20260811T190000
DTSTAMP:20260419T083546
CREATED:20260331T003547Z
LAST-MODIFIED:20260419T123509Z
UID:10000921-1786474800-1786474800@jimmysoncongress.com
SUMMARY:The James Hunter Six
DESCRIPTION:The James Hunter Six returns with their first album on Easy Eye Sound\, delivering another dose of timeless rhythm & soul. British singer\, songwriter and GRAMMY-nominated James Hunter has been a legendary fixture in the scene for over three decades with his gritty voice and sharp songwriting earning him acclaim around the world. This new record features a rare duet with longtime collaborator Van Morrison (“Ain’t That A Trip”)\, marking a full-circle moment for the artist hailed by MOJO magazine as “The United Kingdom’s Greatest Soul Singer.” Hunter and his six-piece band have toured the world for decades from tiny clubs to large festivals\, with Hunter also sharing the stage to support legends including Mavis Staples\, Aretha Franklin\, BB King\, Etta James\, Bonnie Raitt\, and Van Morrison. Whether belting out up-tempo R&B or crafting candle-lit ballads\, James Hunter is a must-see artist who effortlessly draws from the depths of his musical well\, leaving audiences captivated and craving more
URL:https://jimmysoncongress.com/event/the-james-hunter-six-2/
ATTACH;FMTTYPE=image/jpeg:https://jimmysoncongress.com/wp-content/uploads/2026/03/dd1f6165-6a16-4540-94ed-4c8cccad8e56_TABLET_LANDSCAPE_LARGE_16_9.jpg
END:VEVENT
BEGIN:VEVENT
DTSTART;TZID=America/New_York:20260811T213000
DTEND;TZID=America/New_York:20260811T213000
DTSTAMP:20260419T083546
CREATED:20260331T003541Z
LAST-MODIFIED:20260419T123509Z
UID:10000920-1786483800-1786483800@jimmysoncongress.com
SUMMARY:The James Hunter Six
DESCRIPTION:The James Hunter Six returns with their first album on Easy Eye Sound\, delivering another dose of timeless rhythm & soul. British singer\, songwriter and GRAMMY-nominated James Hunter has been a legendary fixture in the scene for over three decades with his gritty voice and sharp songwriting earning him acclaim around the world. This new record features a rare duet with longtime collaborator Van Morrison (“Ain’t That A Trip”)\, marking a full-circle moment for the artist hailed by MOJO magazine as “The United Kingdom’s Greatest Soul Singer.” Hunter and his six-piece band have toured the world for decades from tiny clubs to large festivals\, with Hunter also sharing the stage to support legends including Mavis Staples\, Aretha Franklin\, BB King\, Etta James\, Bonnie Raitt\, and Van Morrison. Whether belting out up-tempo R&B or crafting candle-lit ballads\, James Hunter is a must-see artist who effortlessly draws from the depths of his musical well\, leaving audiences captivated and craving more
URL:https://jimmysoncongress.com/event/the-james-hunter-six/
ATTACH;FMTTYPE=image/jpeg:https://jimmysoncongress.com/wp-content/uploads/2026/03/4febc639-e34c-455b-b74e-571ab046834e_TABLET_LANDSCAPE_LARGE_16_9.jpg
END:VEVENT
BEGIN:VEVENT
DTSTART;TZID=America/New_York:20260812T193000
DTEND;TZID=America/New_York:20260812T193000
DTSTAMP:20260419T083546
CREATED:20260406T211017Z
LAST-MODIFIED:20260419T123509Z
UID:10000929-1786563000-1786563000@jimmysoncongress.com
SUMMARY:Matteo Mancuso
DESCRIPTION:Hailed by Steve Vai as ‘the evolution of fusion guitar\,’ Matteo Mancuso is one of the most electrifying young guitarists on the global stage. A prodigy from Palermo\, Italy\, Mancuso began performing professionally at age 11 and quickly gained international recognition for his virtuosic technique and genre-defying style. A graduate of the Palermo Conservatory with highest honors\, he earned a scholarship to Berklee College of Music after a standout performance at the Umbria Jazz Festival. His debut album The Journey showcases a fearless blend of jazz\, fusion\, rock\, and classical influences. Mancuso has performed at major international festivals and shared stages with legends including Al Di Meola. Eric Johnson calls him “a beautiful player\, so versatile\,” while peers worldwide praise his groundbreaking approach. With a rapidly growing global following\, Mancuso represents the next generation of guitar innovation.
URL:https://jimmysoncongress.com/event/matteo-mancuso/
ATTACH;FMTTYPE=image/jpeg:https://jimmysoncongress.com/wp-content/uploads/2026/04/31d72f32-05a2-4ec0-9f75-9910e33a6ca9_TABLET_LANDSCAPE_LARGE_16_9.jpg
END:VEVENT
END:VCALENDAR